BEGIN:VCALENDAR
VERSION:2.0
PRODID:-//Animation Scotland - ECPv6.15.20//NONSGML v1.0//EN
CALSCALE:GREGORIAN
METHOD:PUBLISH
X-ORIGINAL-URL:https://www.animationscotland.com
X-WR-CALDESC:Events for Animation Scotland
REFRESH-INTERVAL;VALUE=DURATION:PT1H
X-Robots-Tag:noindex
X-PUBLISHED-TTL:PT1H
BEGIN:VTIMEZONE
TZID:Europe/London
BEGIN:DAYLIGHT
TZOFFSETFROM:+0000
TZOFFSETTO:+0100
TZNAME:BST
DTSTART:20240331T010000
END:DAYLIGHT
BEGIN:STANDARD
TZOFFSETFROM:+0100
TZOFFSETTO:+0000
TZNAME:GMT
DTSTART:20241027T010000
END:STANDARD
BEGIN:DAYLIGHT
TZOFFSETFROM:+0000
TZOFFSETTO:+0100
TZNAME:BST
DTSTART:20250330T010000
END:DAYLIGHT
BEGIN:STANDARD
TZOFFSETFROM:+0100
TZOFFSETTO:+0000
TZNAME:GMT
DTSTART:20251026T010000
END:STANDARD
BEGIN:DAYLIGHT
TZOFFSETFROM:+0000
TZOFFSETTO:+0100
TZNAME:BST
DTSTART:20260329T010000
END:DAYLIGHT
BEGIN:STANDARD
TZOFFSETFROM:+0100
TZOFFSETTO:+0000
TZNAME:GMT
DTSTART:20261025T010000
END:STANDARD
END:VTIMEZONE
BEGIN:VEVENT
DTSTART;VALUE=DATE:20250913
DTEND;VALUE=DATE:20250915
DTSTAMP:20260420T150427
CREATED:20250731T094146Z
LAST-MODIFIED:20250912T144233Z
UID:10000026-1757721600-1757894399@www.animationscotland.com
SUMMARY:Scottish Screenwriters Festival 2025
DESCRIPTION:Meet the best screenwriters\, producers and game changers Scotland offers!
URL:https://www.animationscotland.com/event/scottish-screenwriters-festival-2025
LOCATION:Dakota Hotel Eurocentral\, Parklands Ave\, Motherwell\, ML1 4WQ
ATTACH;FMTTYPE=image/png:https://www.animationscotland.com/wp-content/uploads/Website-Event-Image-SVG-1-1.png
END:VEVENT
END:VCALENDAR